BEGIN:VCALENDAR
VERSION:2.0
PRODID:-//Eijer Producties - ECPv6.15.20//NONSGML v1.0//EN
CALSCALE:GREGORIAN
METHOD:PUBLISH
X-WR-CALNAME:Eijer Producties
X-ORIGINAL-URL:https://eijerproducties.nl
X-WR-CALDESC:Events voor Eijer Producties
REFRESH-INTERVAL;VALUE=DURATION:PT1H
X-Robots-Tag:noindex
X-PUBLISHED-TTL:PT1H
BEGIN:VTIMEZONE
TZID:Europe/Amsterdam
BEGIN:DAYLIGHT
TZOFFSETFROM:+0100
TZOFFSETTO:+0200
TZNAME:CEST
DTSTART:20250330T010000
END:DAYLIGHT
BEGIN:STANDARD
TZOFFSETFROM:+0200
TZOFFSETTO:+0100
TZNAME:CET
DTSTART:20251026T010000
END:STANDARD
BEGIN:DAYLIGHT
TZOFFSETFROM:+0100
TZOFFSETTO:+0200
TZNAME:CEST
DTSTART:20260329T010000
END:DAYLIGHT
BEGIN:STANDARD
TZOFFSETFROM:+0200
TZOFFSETTO:+0100
TZNAME:CET
DTSTART:20261025T010000
END:STANDARD
BEGIN:DAYLIGHT
TZOFFSETFROM:+0100
TZOFFSETTO:+0200
TZNAME:CEST
DTSTART:20270328T010000
END:DAYLIGHT
BEGIN:STANDARD
TZOFFSETFROM:+0200
TZOFFSETTO:+0100
TZNAME:CET
DTSTART:20271031T010000
END:STANDARD
END:VTIMEZONE
BEGIN:VEVENT
DTSTART;VALUE=DATE:20260406
DTEND;VALUE=DATE:20260407
DTSTAMP:20260422T091653
CREATED:20260223T195922Z
LAST-MODIFIED:20260223T195955Z
UID:10033-1775433600-1775519999@eijerproducties.nl
SUMMARY:Tweede Paasdag
DESCRIPTION:Op tweede paasdag wordt er geen les gegeven.
URL:https://eijerproducties.nl/event/tweede-paasdag/
CATEGORIES:Vakanties / Feestdagen
ATTACH;FMTTYPE=image/jpeg:https://eijerproducties.nl/wp-content/uploads/2024/12/girl-easter-egg-hunt-with-living-easter-bunny-scaled.jpg
END:VEVENT
BEGIN:VEVENT
DTSTART;VALUE=DATE:20260403
DTEND;VALUE=DATE:20260404
DTSTAMP:20260422T091653
CREATED:20260224T090836Z
LAST-MODIFIED:20260224T090836Z
UID:10049-1775174400-1775260799@eijerproducties.nl
SUMMARY:Goede vrijdag
DESCRIPTION:Op goede vrijdag wordt er geen les gegeven.
URL:https://eijerproducties.nl/event/goede-vrijdag/
CATEGORIES:Vakanties / Feestdagen
ATTACH;FMTTYPE=image/jpeg:https://eijerproducties.nl/wp-content/uploads/2023/08/HD-wallpaper-doves-peace-doves-peace-clouds-sky-blue.jpg
END:VEVENT
BEGIN:VEVENT
DTSTART;VALUE=DATE:20260223
DTEND;VALUE=DATE:20260301
DTSTAMP:20260422T091653
CREATED:20250804T124431Z
LAST-MODIFIED:20260223T195632Z
UID:8638-1771804800-1772323199@eijerproducties.nl
SUMMARY:Voorjaarsvakantie
DESCRIPTION:Tijdens de voorjaarsvakantie wordt er geen les gegeven.
URL:https://eijerproducties.nl/event/voorjaarsvakantie/
CATEGORIES:Vakanties / Feestdagen
ATTACH;FMTTYPE=image/png:https://eijerproducties.nl/wp-content/uploads/2025/08/ChatGPT-Image-23-feb-2026-20_55_53.png
END:VEVENT
END:VCALENDAR